BEGIN:VCALENDAR
PRODID:-//eluceo/ical//2.0/EN
VERSION:2.0
CALSCALE:GREGORIAN
BEGIN:VEVENT
UID:event-1287
DTSTAMP:20260423T182904Z
SUMMARY:Civiele Bedrijvendagen 2026
DESCRIPTION:English see below! Hier kunt u zich inschrijven voor de Civiele
  Bedrijvendagen 2026! De inschrijvingen zijn nu online! U kunt tickets hal
 en voor de verschillende activiteiten van de Civiele Bedrijvendagen\, zoal
 s de YES!Delft Workshop over startups\, Carrièrecoaching en Individuele g
 esprekken.   On this page you can register for the Civil Business Days 20
 26! Registration is now open! You can get tickets for the different activi
 ties of the Civil Business Days\, such as the YES!Delft Workshop over star
 tups\, Career scans\,and the Individual Conversations.
DTSTART:20260504T104500Z
DTEND:20260513T140000Z
LOCATION:Aula TU Delft
END:VEVENT
BEGIN:VTIMEZONE
TZID:UTC
BEGIN:STANDARD
DTSTART:20260504T104500
TZNAME:UTC
TZOFFSETTO:+0000
TZOFFSETFROM:+0000
END:STANDARD
END:VTIMEZONE
END:VCALENDAR
